Workbook
Name Adrien: 'Journal et pièces'!$C$19:$C$328
Name Beg_Bal: #REF!
Name End_Bal: '[1]Tableau d''amortissement'!$I$19:$I$378
Name Extra_Pay: #REF!
Name Header_Row: ROW('[1]Tableau d''amortissement'!#REF!)
Name Int: #REF!
Name Interest_Rate: '[1]Tableau d''amortissement'!$D$6
Name JOURSMOIS: 'Journal et pièces'!$P$25:$R$36
Name Last_Row: IF(Values_Entered,Header_Row+Number_of_Payments,Header_Row)
Name Loan_Amount: '[1]Tableau d''amortissement'!$D$5
Name Loan_Start: '[1]Tableau d''amortissement'!$D$9
Name Loan_Year: 'Journal et pièces'!$D$7
Name Loan_Years: '[1]Tableau d''amortissement'!$D$7
Name NBJOURS: 'Journal et pièces'!$P$24:$Q$36
Name Num_Pmt_Per_Year: #REF!
Name Number_of_Payments: MATCH(0.01,End_Bal,-1)+1
Name Pay_Num: #REF!
Name Princ: #REF!
Name Sched_Pay: #REF!
Name Scheduled_Extra_Payments: #REF!
Name Scheduled_Monthly_Payment: #REF!
Name Total_Pay: #REF!
Name Values_Entered: IF(Loan_Amount*Interest_Rate*Loan_Years*Loan_Start>0,1,0)

Sheet Journal et pièces
A1: 1- Les achats Décembre
A2: FACTURE FOURNISSEUR
A3: DUPONT | E3: FACTURÉ À
E4: BLAFFART
A5: DESCRIPTION | F5: QTÉ | G5: PRIX UNITAIRE | H5: MONTANT
A6: Matière première -blocs acier | F6: 10 | G6: 200 | H6: =IF(F6="",ROUND(1*G6,2),ROUND(F6*G6,2)) -> 2000
A7: Mèches | F7: 120 | G7: 6 | H7: =IF(F7="",ROUND(1*G7,2),ROUND(F7*G7,2)) -> 720
F8: SOUS-TOTAL | H8: =SUM(H6:H7) -> 2720
F9: TVA 20% | H9: =H8*0.2 -> 544
F10: TOTAL | H10: =H8+H9 -> 3264
A12: FACTURE FOURNISSEUR
A13: DURAND | E13: FACTURÉ À | J13: journal des achats Décembre
E14: BLAFFART | J14: DATE | L14: COMPTE | M14: LIBELLE | N14: DEBIT | O14: CREDIT | P14: INTITULE DU COMPTE
A15: DESCRIPTION | F15: QTÉ | G15: PRIX UNITAIRE | H15: MONTANT | J15: 44561 | K15: BLOC ACIER | L15: 601002 | M15: DUPONT | N15: =H6 -> 2000 | P15: ACHAT DE MATIERE PREMIERE BLOC ACIER
A16: 1 machine | F16: 1 | G16: 5000 | H16: =IF(F16="",ROUND(1*G16,2),ROUND(F16*G16,2)) -> 5000 | J16: 44561 | K16: MECHES | L16: 601001 | M16: DUPONT | N16: =H7 -> 720 | P16: ACHAT DE MECHES
A17: Amortissement 5 ans | B17: Mise en service = Date de facture le 1/12 | J17: 44561 | L17: 445660 | M17: DUPONT | N17: =H9 -> 544 | P17: TVA DEDUCTIBLE 20%
F18: SOUS-TOTAL | H18: =SUM(H16:H17) -> 5000 | J18: 44561 | L18: 401DUP | M18: DUPONT | O18: =H10 -> 3264 | P18: FOURNISSEUR DUPONT
F19: TVA 20% | H19: =H18*0.2 -> 1000 | J19: 44561 | L19: 215400 | M19: DURAND | N19: =H16 -> 5000 | P19: Materiel industriel
F20: TOTAL | H20: =H18+H19 -> 6000 | J20: 44561 | L20: 445620 | M20: DURAND | N20: =H19 -> 1000 | P20: TVA DEDUCTIBLE SUR IMMOBILISTATIONS
J21: 44561 | L21: 404DUR | M21: DURAND | O21: =H20 -> 6000 | P21: FOURNISSEUR IMMO DURAND
J22: 44561 | L22: 613200 | M22: DUPUIS IMMOBILIER | N22: =H28 -> 100 | P22: Locations immobilieres
A23: FACTURE FOURNISSEUR | J23: 44561 | L23: 614000 | M23: DUPUIS IMMOBILIER | P23: Charges locatives et de copropriété
A24: DUPUIS IMMOBILIER | E24: FACTURÉ À | J24: 44561 | L24: 401DUI | M24: DUPUIS IMMOBILIER | P24: FOURNISSEUR DUPUIS IMMOBILIER
E25: BLAFFART | J25: 44561 | L25: 616000 | M25: DUBUISSON | P25: Primes d'assurance
A26: DESCRIPTION | F26: QTÉ | G26: PRIX UNITAIRE | H26: MONTANT | J26: 44561 | L26: 401DUB | M26: DUBUISSON | P26: FOURNISSEUR DUBUISSON
A27: 1 Loyer mensuel | F27: 1 | G27: 600 | H27: =IF(F27="",ROUND(1*G27,2),ROUND(F27*G27,2)) -> 600 | J27: 44561 | L27: 612100 | M27: POSCHE LEASE | P27: CB PORSCHE 924
A28: Charges | F28: 1 | G28: 100 | H28: =IF(F28="",ROUND(1*G28,2),ROUND(F28*G28,2)) -> 100 | J28: 44561 | L28: 401POR | M28: POSCHE LEASE | P28: PORSCHE LEASING
F29: SOUS-TOTAL | H29: =SUM(H27:H28) -> 700 | J29: 44561 | L29: 622600 | M29: DUDUISSON EXPERT | P29: Honoraires
F30: TVA | H30: 0 | J30: 44561 | L30: 445660 | M30: DUDUISSON EXPERT | P30: TVA DEDUCTIBLE 20%
F31: TOTAL | H31: =H29+H30 -> 700 | J31: 44561 | L31: 401DUD | M31: DUDUISSON EXPERT | P31: FOURNISSEUR DUDUISSON
N32: =SUBTOTAL(109,'Journal et pièces'!$N$15:$N$31) -> 9364 | O32: =SUBTOTAL(109,'Journal et pièces'!$O$15:$O$31) -> 9264
A34: FACTURE FOURNISSEUR
A35: DUBUISSON | E35: FACTURÉ À
E36: BLAFFART
A37: DESCRIPTION | F37: QTÉ | G37: PRIX UNITAIRE | H37: MONTANT
A38: Prime mensuelle d'assurance | F38: 1 | G38: 200 | H38: =IF(F38="",ROUND(1*G38,2),ROUND(F38*G38,2)) -> 200
F40: SOUS-TOTAL | H40: =SUM(H38:H39) -> 200
F41: TVA | H41: 0
F42: TOTAL | H42: =H40+H41 -> 200
A45: FACTURE FOURNISSEUR
...

Sheet FISCAL
G1: TVA SUR LES ENCAISSEMENTS
A2: 1- TVA SUR LES ENCAISSEMENTS | G2: DÉCLARATION DE TVA (CA3) | Q2: N° 3310 - CA3
G3: A MONTANT DES OPÉRATIONS REALISÉES
A4: Rappel mouvements de trésorerie | G4: OPÉRATIONS IMPOSABLES (H.T.) | L4: OPÉRATIONS NON IMPOSABLES
G6: 01 | H6: Ventes, prestations de services …….………………. | K6: =B27 -> 0 | L6: 04 | M6: Exportations hors CEE …………………………… | Q6: 0032 | R6: ='[2]Etat préparatoire CA3'!C41 -> 0
G8: 02 | H8: Autres opérations imposables …..…………………. | K8: ='[2]Etat préparatoire CA3'!D38 -> 0 | L8: 05 | M8: Autres opérations non imposables ………. | Q8: 0033 | R8: ='[2]Etat préparatoire CA3'!C33+'[2]Etat préparatoire CA3'!C38 -> 0
G10: 03 | H10: Acquisitions intracommunautaires ...……………. | J10: 0031 | K10: ='[2]Etat préparatoire CA3'!C30 -> 0 | L10: 06 | M10: Livraisons intracommunautaires ………….. | Q10: 0034
H11: (dont ventes à distance et/ou opérations de montage :
L12: 07 | M12: Achats en franchise …………………………………. | Q12: 0037
G13: 3C | H13: Régularisations
G15: B DÉCOMPTE DE LA TVA A PAYER
G16: TVA BRUTE | O16: Base hors taxe | R16: Taxe due
A17: TVA COLLECTEE/VENTES - DEBITS
A18: TRANSACTION | B18: HT | C18: TVA | D18: TTC | G18: 08 | H18: Taux 20 %………………..……..…………………………………………………………………………………………………………………. | N18: 0206 | O18: =B27 -> 0 | R18: =C27 -> 0
A19: SOCSOC | B19: =C19*100/20 -> 6000 | C19: 1200 | D19: =C19+B19 -> 7200
A20: SATHERM | B20: =C20*100/20 -> 4000 | C20: 800 | D20: =C20+B20 -> 4800 | G20: 09 | H20: Taux 5,5 %..……………..………..………………………………………………………………………………………………………………….. | N20: 0105
A21: TOTAL | B21: =SUBTOTAL(109,B19:B20) -> 10000 | C21: =SUBTOTAL(109,C19:C20) -> 2000 | D21: =SUBTOTAL(109,D19:D20) -> 12000
G22: 9B | H22: Taux 10 %..……………..………..………………………………………………………………………………………………………………….. | N22: 0150
A23: TVA COLLECTEE/VENTES - ENCAISSEMENTS | H23: Opérations réalisées dans les DOM
A24: TRANSACTION | B24: HT | C24: TVA | D24: TTC | G24: 10 | H24: Taux normal 8,5 %…………………………………………………………………………………………………………………………………….. | N24: 0201
A25: JEREMY DUCASH
A26: SOCSOC | G26: 11 | H26: Taux réduit 2,1 %.…………………..………………………………………….……………………………………………………………………… | N26: 0100
A27: TOTAL | B27: =SUBTOTAL(109,B25:B26) -> 0 | C27: =SUBTOTAL(109,C25:C26) -> 0 | D27: =SUBTOTAL(109,D25:D26) -> 0
G28: 12 | H28: ………………….………...…………..…………………………………………………………………………………………………………………………..
A29: TVA DEDUCTIBLE ABS /DEBITS | H29: Opérations imposables à un autre taux
A30: TRANSACTION | B30: HT | C30: TVA | D30: TTC | E30: Commentaire | H30: (France métropolitaine ou DOM)
A31: PORSCHE LEASING | B31: 1000 | C31: 0 | D31: 1000 | E31: Véhicule de toursime | G31: 13 | H31: Anciens taux……………………………………………………………………………………………………………………………………………… | N31: 0900
A32: DUPUIS | B32: =Tableau81112[[#This Row],[TTC]] -> 700 | D32: 700 | E32: Exonéré de TVA
A33: TOTAL | B33: =SUBTOTAL(109,B31:B32) -> 1700 | C33: =SUBTOTAL(109,C31:C32) -> 0 | D33: =SUBTOTAL(109,D31:D32) -> 1700 | G33: 14 | H33: Opérations imposables à un taux particulier (décompte effectué sur annexe 3310 A)………………………………………….. | N33: 0950
A35: TVA DEDUCTIBLE ABS /DECAISSEMENTS | G35: 15 | H35: TVA antérieurement déduite à reverser…………………………..………………………….………………………………………………………………………………………………. | Q35: 0600
A36: TRANSACTION | B36: HT | C36: TVA | D36: TTC | E36: Commentaire
A37: DUBUISSON EXPERT | E37: Service dédutible lors du paiement | L37: 16 | M37: Total de la TVA brute due (lignes 08 à 15) | R37: =SUM(R18:R36) -> 0
A38: DUPUIS IMMO | E38: EXONERE | H38: La ligne 11 ne concerne que les DOM
A39: DUBUISSON ASSURANCE | E39: EXONERE | H39: Les autres opérations relevant du taux de 2,1 % continuent d'être déclarées sur l'annexe 3310 A | L39: 17 | M39: Dont TVA sur acquisitions intracommunautaires | Q39: 0035 | R39: ='[2]Etat préparatoire CA3'!E29 -> 0
A40: PORSCHE LEASE | E40: EXONERE
A41: DUPONT | E41: Marchandises deductible/facture | L41: 18 | M41: Dont TVA sur opérations à destination de Monaco | Q41: 0038
A42: TOTAL | B42: =SUBTOTAL(109,B37:B41) -> 0 | C42: =SUBTOTAL(109,C37:C41) -> 0 | D42: =SUBTOTAL(109,D37:D41) -> 0
G43: TVA DÉDUCTIBLE
A44: TVA DEDUCTIBLE IMMOBILISATIONS
A45: TRANSACTION | B45: HT | C45: TVA | D45: TTC | E45: Commentaire | G45: 19 | H45: Biens constituant des immobilisations ………………………………………………………………………………………………………………………………………………………. | Q45: 0703 | R45: =C46 -> 0
...

Sheet Grand-livre
A1: GRAND LIVRE GLOBAL
A2: Période du 01/01/2021 au 31/12/2021
A3: Avec brouillard Hors simulation Avec comptes soldés Avec les écritures lettrées et non lettrées Avec les écritures pointées et non pointées
A5: N° Mvt | B5: Journal | C5: Date | D5: N° de pièce | E5: Libellé de l'écriture | H5: S | I5: Montant débit | J5: Lett. | K5: Montant crédit | M5: Solde cumulé
A7: 101300 Capital souscrit appele verse
A8: 4 | B8: REP | C8: 44530 | E8: CAPITAL | H8: B | K8: 10000 | M8: -10000
A9: TOTAL COMPTE 101300 | E9: Solde compte créditeur | K9: 10000 | M9: -10000
A11: 106100 Reserve legale
A12: 4 | B12: REP | C12: 44530 | E12: RESERVES LEGALES | H12: B | K12: 1000 | M12: -1000
A13: TOTAL COMPTE 106100 | E13: Solde compte créditeur | K13: 1000 | M13: -1000
A15: 119000 Report a nouveau (solde debiteur)
A16: 4 | B16: REP | C16: 44530 | E16: RAN | H16: B | I16: 5000 | M16: 5000
A17: TOTAL COMPTE 119000 | E17: Solde compte débiteur | I17: 5000 | M17: 5000
A19: 151100 Provisions pour litiges
A20: 5 | B20: INV | C20: 44561 | E20: PROVISION POUR LITIGE SALARIE | H20: B | K20: 5200 | M20: -5200
A21: TOTAL COMPTE 151100 | E21: Solde compte créditeur | K21: 5200 | M21: -5200
A23: 164000 Emprunts aupres etablis. de credit
A24: 4 | B24: REP | C24: 44530 | E24: EMPRUNT MACHINE | H24: B | K24: 6567.94 | M24: -6567.94
A25: 6 | B25: BQ | C25: 44531 | E25: REMBOURSEMENT EMPRUNT | H25: B | I25: 490.29 | M25: -6077.65
A26: TOTAL COMPTE 164000 | E26: Solde compte créditeur | I26: 490.29 | K26: 6567.94 | M26: -6077.65
A27: TOTAL CLASSE 1 | I27: 5490.29 | K27: 22767.94 | M27: -17277.65
A29: 205000 Concessions et droits similaires
A30: 4 | B30: REP | C30: 44530 | E30: LOGICIELS | H30: B | I30: 1250 | M30: 1250
A31: TOTAL COMPTE 205000 | E31: Solde compte débiteur | I31: 1250 | M31: 1250
A33: 215400 Materiel industriel
A34: 4 | B34: REP | C34: 44530 | E34: MATERIEL INDUSTRIEL | H34: B | I34: 15000 | M34: 15000
A35: 1 | B35: HA | C35: 44561 | E35: DURAND | H35: B | I35: 5000 | M35: 20000
A36: TOTAL COMPTE 215400 | E36: Solde compte débiteur | I36: 20000 | M36: 20000
A38: 218300 Materiel de bureau et informatique
A39: 4 | B39: REP | C39: 44530 | E39: MATERIEL DE BUREAU ET INFORMAT... | H39: B | I39: 1400 | M39: 1400
A40: TOTAL COMPTE 218300 | E40: Solde compte débiteur | I40: 1400 | M40: 1400
A42: 280500 Concessions et droits similaires
A43: 4 | B43: REP | C43: 44530 | E43: AMORTISSEMENT LOGICIELS | H43: B | K43: 1000 | M43: -1000
A44: 5 | B44: INV | C44: 44561 | E44: AUTRES DOTATIONS AUX AMORTISSE... | H44: B | K44: 700 | M44: -1700
A45: TOTAL COMPTE 280500 | E45: Solde compte créditeur | K45: 1700 | M45: -1700
A47: 281500 Install tech. mat. outil. indust.
A48: 4 | B48: REP | C48: 44530 | E48: AMORTISSEMENTS MAT INDUST | H48: B | K48: 3750 | M48: -3750
A49: 5 | B49: INV | C49: 44561 | E49: AUTRES DOTATIONS AUX AMORTISSE... | H49: B | K49: 2100 | M49: -5850
A50: 5 | B50: INV | C50: 44561 | E50: AMORTISSEMENT MACHINE | H50: B | K50: 83.33 | M50: -5933.33
A51: 5 | B51: INV | C51: 44561 | E51: AMORTISSEMENT MACHINE | H51: B | K51: 1190.48 | M51: -7123.81
...

Sheet Balance
A1: BALANCE GLOBALE
A2: Période du 01/01/2021 au 31/12/2021
A3: Avec brouillard Hors simulation Avec comptes soldés
A4: Avec les écritures lettrées et non lettrées Avec les écritures pointées et non pointées
A6: N° de compte | B6: Intitulé du compte | C6: Cumul débit | D6: Cumul crédit | E6: Solde débit | F6: Solde crédit
A7: 101300 | B7: Capital souscrit appele verse | D7: 10000 | F7: 10000
A8: 106100 | B8: Reserve legale | D8: 1000 | F8: 1000
A9: TOTAL SOUS CLASSE 10 | D9: 11000 | F9: 11000
A10: 119000 | B10: Report a nouveau (solde debiteur) | C10: 5000 | E10: 5000
A11: TOTAL SOUS CLASSE 11 | C11: 5000 | E11: 5000
A12: 151100 | B12: Provisions pour litiges | D12: 5200 | F12: 5200
A13: TOTAL SOUS CLASSE 15 | D13: 5200 | F13: 5200
A14: 164000 | B14: Emprunts aupres etablis. de credit | C14: 490.29 | D14: 6567.94 | F14: 6077.65
A15: TOTAL SOUS CLASSE 16 | C15: 490.29 | D15: 6567.94 | F15: 6077.65
A16: TOTAL CLASSE 1 | C16: 5490.29 | D16: 22767.94 | E16: 5000 | F16: 22277.65
A17: 205000 | B17: Concessions et droits similaires | C17: 1250 | E17: 1250
A18: TOTAL SOUS CLASSE 20 | C18: 1250 | E18: 1250
A19: 215400 | B19: Materiel industriel | C19: 20000 | E19: 20000
A20: 218300 | B20: Materiel de bureau et informatique | C20: 1400 | E20: 1400
A21: TOTAL SOUS CLASSE 21 | C21: 21400 | E21: 21400
A22: 280500 | B22: Concessions et droits similaires | D22: 1700 | F22: 1700
A23: 281500 | B23: Install tech. mat. outil. indust. | D23: 7123.81 | F23: 7123.81
A24: 281800 | B24: Autres immobilisations corporelles | D24: 1750 | F24: 1750
A25: TOTAL SOUS CLASSE 28 | D25: 10573.81 | F25: 10573.81
A26: TOTAL CLASSE 2 | C26: 22650 | D26: 10573.81 | E26: 22650 | F26: 10573.81
A27: 311100 | B27: STOCK DE BLOCS ACIER | C27: 35714.29 | D27: 18000 | E27: 17714.29
A28: 311200 | B28: STOCK DE MECHES | C28: 15247.64 | D28: 7300 | E28: =+C28-D28 -> 7947.64
A29: TOTAL SOUS CLASSE 31 | C29: 50961.93 | D29: 25300 | E29: 25661.43
A30: 355000 | B30: Produits finis | C30: 22201 | D30: 12400 | E30: 9801
A31: TOTAL SOUS CLASSE 35 | C31: 22201 | D31: 12400 | E31: 9801
A32: 391110 | B32: DEPRECIATION DE STOCK | D32: =+'Grand-livre'!K79 -> 1200 | F32: =+D32 -> 1200
A33: TOTAL SOUS CLASSE 39 | D33: 1200 | F33: 1200
A34: TOTAL CLASSE 3 | C34: 73162.93 | D34: 38900 | E34: 35462.93 | F34: 1200
A35: 401000 | B35: Fournisseurs divers | D35: 46260 | F35: 46260
A36: 401DUB | B36: DUBUISSON | D36: 6500 | F36: 6500
A37: 401DUD | B37: DUDUISSON | D37: 180 | F37: 180
A38: 401DUI | B38: DUPUIS IMMOBILIER | C38: 700 | D38: 2800 | F38: 2100
A39: 401DUP | B39: DUPONT | D39: 2944 | F39: 2944
A40: 401POR | B40: PORSCHE LEASING | C40: 1000 | D40: 2000 | F40: 1000
A41: 404DUR | B41: FOURNISSEUR D'IMMO DURAND | D41: 6000 | F41: 6000
...

Sheet Résultat
A1: COMPTE DE RESULTAT SYNTHETIQUE
A2: BLAFFARD
A3: Edition du : 01/01/2021 au 31/12/2021 Avec brouillard Hors simulation
A4: Soldes N-1 de l'exercice
A6: CHARGES (Hors taxes) | B6: Exercice N | C6: Exercice N-1 | D6: PRODUITS (Hors taxes) | E6: Exercice N | F6: Exercice N-1
B7: Net | C7: Net | E7: net | F7: net
A9: CHARGES D'EXPLOITATION : | D9: PRODUITS D'EXPLOITATION
A10: Achats de marchandises | C10: 2600 | D10: Ventes de marchandises | F10: 2500
A11: Variation de stock (marchandises) | D11: Production vendue (biens et services) | F11: 160000
A12: Achats d'approvisionnement | C12: 41730 | D12: Production stockée | F12: 1250
A13: Variation de stock (approvisionnement) | C13: -1100 | D13: Production immobilisée | F13: 0
A14: Autres charges externes | C14: 62880 | D14: Subventions d'exploitation
A15: Impôts, taxes et versements assimilés | C15: 3145 | D15: Autres produits
A16: Rémunération du personnel | C16: 22500 | D16: Produits financiers
A17: Charges sociales | C17: 8820
A18: Dotations aux amortissements | C18: 3020
A19: Dotations aux provisions
A20: Autres charges
A21: Charges financières
A23: TOTAL (I) | B23: =SUM(B10:B22) -> 0 | C23: =SUM(C10:C22) -> 143595 | D23: TOTAL (I) | E23: =SUM(E10:E22) -> 0 | F23: =SUM(F10:F22) -> 163750
A25: CHARGES EXCEPTIONNELLES (II) | D25: PRODUITS EXCEPTIONNELS (II)
A27: IMPOTS SUR LES BENEFICES (III)
A29: TOTAL DES CHARGES (I+II+III) | B29: =SUM(B23:B28) -> 0 | C29: =SUM(C23:C28) -> 143595 | D29: TOTAL DES PRODUITS (I+II) | E29: =SUM(E23:E28) -> 0 | F29: =SUM(F23:F28) -> 163750
A31: BENEFICE OU PERTE | B31: =E29-B29 -> 0 | C31: =F29-C29 -> 20155
A32: CONTRÔLE | B32: =Balance!F115-Balance!E115-Balance!E107+Balance!F107 -> -19770.57
A33: TOTAL GENERAL | B33: =B29+B32 -> -19770.57 | C33: =C29+C31 -> 163750 | D33: TOTAL GENERAL | E33: =E29 -> 0 | F33: =F29 -> 163750

Sheet Bilan
A1: BILAN SYNTHETIQUE
A2: BLAFFARD
A3: Edition du : 01/01/2021 au 31/12/2021
C6: Exercice N | E6: N-1
A7: ACTIF | B7: Brut | C7: Amortissements | D7: Net | E7: Net | F7: PASSIF | G7: Exercice N | H7: Exercice
C8: et provisions | G8: net | H8: N-1 net
A10: Actif immobilisé : | F10: Capitaux propres
A11: Immobilisations incorporelles | F11: Capital | H11: 10000
A12: - Fonds commercial | F12: Ecarts de réévaluation
A13: - Autres | E13: -450 | F13: Réserves :
A14: Immobilisations corporelles | E14: 8900 | F14: - Réserve légale | H14: 1000
A15: Immobilisations financières | F15: - Réserves réglementées
A16: TOTAL I | B16: =SUM(B13:B15) -> 0 | C16: =SUM(C13:C15) -> 0 | D16: =SUM(D13:D15) -> 0 | E16: =SUM(E13:E15) -> 8450 | F16: - Autres
A18: Actif circulant :
A19: Stocks et en-cours (autres que | F19: Report à nouveau | H19: -25155
A20: marchandises) | E20: =B42 -> 12140 | F20: Résultat de l'exercice (bénéfice ou perte) | G20: =Résultat!B31 -> 0 | H20: 20155
A21: Encours de production | E21: =B43 -> 32040 | F21: Provisions réglementées
A22: Avances et acomptes versés sur | F22: TOTAL I | G22: =SUM(G10:G21) -> 0 | H22: =SUM(H10:H21) -> 6000
A23: commandes
A25: Créances : | F25: Provisions pour risques et charges (II) | H25: 0
A26: Clients et comptes rattachés | E26: 54822 | F26: Dettes
A27: Autres | E27: 1250 | F27: Emprunts et dettes assimilées | H27: 0
A28: Valeurs mobilières de placement | F28: Avances et acomptes reçus sur
A29: Disponibilités (autres que caisse) | E29: 1000 | F29: commandes
A30: Caisse | E30: 500 | F30: Fournisseurs et comptes rattachés | H30: 53952
F31: Dettes sociales et fiscales | H31: 25250
A32: TOTAL II | B32: =SUM(B19:B31) -> 0 | C32: =SUM(C19:C31) -> 0 | D32: =SUM(D19:D31) -> 0 | E32: =SUM(E19:E31) -> 101752 | F32: Autres dettes | H32: 25000
F33: TOTAL III | G33: =SUM(G23:G32) -> 0 | H33: =SUM(H23:H32) -> 104202
A34: Charges constatées d'avance (III) | F34: Produits constatés d'avance (IV)
A36: TOTAL GENERAL (I+II+III) | B36: =B16+B32 -> 0 | C36: =C16+C32 -> 0 | D36: =D16+D32 -> 0 | E36: =E16+E32 -> 110202 | F36: TOTAL GENERAL (I+II+III+IV) | G36: =G22+G33 -> 0 | H36: =H22+H33 -> 110202
A38: Informations 2021
A39: Immobilisation/amortissements | B39: Voir balance et Grand-livre - M. BLAFFART a perdu la liasse N-1 | G39: =D36-G36 -> 0
A41: Stocks au 31/12 N-1
A42: Matières premières | B42: 12140
A43: Encours de production | B43: =44180-12140 -> 32040
A45: Effets escompté non échus au 31/12/N-1 | B45: 8100
